BEGIN:VCALENDAR
VERSION:2.0
PRODID:-//Turn- und Sportverein Ellhofen e.V. Abteilung Turnen//NONSGML kig
 konsult.se iCalcreator 2.30.10//
CALSCALE:GREGORIAN
METHOD:PUBLISH
UID:255f8ff7-3aa4-4535-9c07-95c7cf88d439
X-WR-CALNAME:iCagenda
X-WR-CALDESC:Event Management Extension for Joomla!
X-WR-RELCALID:3E26604A-50F4-4449-8B3E-E4F4932D05B5
X-WR-TIMEZONE:Europe/Berlin
BEGIN:VTIMEZONE
TZID:Europe/Berlin
BEGIN:STANDARD
TZNAME:CET
DTSTART:20221030T030000
TZOFFSETFROM:+0200
TZOFFSETTO:+0100
RDATE:20231029T030000
END:STANDARD
BEGIN:DAYLIGHT
TZNAME:CEST
DTSTART:20230326T020000
TZOFFSETFROM:+0100
TZOFFSETTO:+0200
RDATE:20240331T020000
END:DAYLIGHT
END:VTIMEZONE
BEGIN:VEVENT
UID:14ea715e-a18a-4c88-a7c5-ed9bc0c9bb3b
DTSTAMP:20260420T164113Z
CATEGORIES:Kinderturnen
CLASS:PUBLIC
DESCRIPTION;ALTREP="CID:<FFFF__=0ABBE548DFE235B58f9e8a93d@coffeebean.com>":
 Teilnahme  jeweils nur mit Anmeldung über unsere Turn-App. Rückfragen stet
 s an: 'gaedker@tsvellhofen.de'
DTSTART:20230426T133000Z
DTEND:20230426T133000Z
GEO:00;0
LOCATION:
ORGANIZER;CN=:gaedker@tsvellhofen.de
SEQUENCE:1
SUMMARY:Turnmäuse
TRANSP:OPAQUE
URL:https://www.turnen-ellhofen.de/index.php/component/icagenda/38-turnmaeu
 se
END:VEVENT
END:VCALENDAR
