BEGIN:VCALENDAR
VERSION:2.0
PRODID:-//Turn- und Sportverein Ellhofen e.V. Abteilung Turnen//NONSGML kig
 konsult.se iCalcreator 2.30.10//
CALSCALE:GREGORIAN
METHOD:PUBLISH
UID:50e610b6-aef7-4922-9a2c-4c6c62002194
X-WR-CALNAME:iCagenda
X-WR-CALDESC:Event Management Extension for Joomla!
X-WR-RELCALID:3E26604A-50F4-4449-8B3E-E4F4932D05B5
X-WR-TIMEZONE:Europe/Berlin
BEGIN:VTIMEZONE
TZID:Europe/Berlin
BEGIN:STANDARD
TZNAME:CET
DTSTART:20221030T030000
TZOFFSETFROM:+0200
TZOFFSETTO:+0100
RDATE:20231029T030000
END:STANDARD
BEGIN:DAYLIGHT
TZNAME:CEST
DTSTART:20230326T020000
TZOFFSETFROM:+0100
TZOFFSETTO:+0200
RDATE:20240331T020000
END:DAYLIGHT
END:VTIMEZONE
BEGIN:VEVENT
UID:447aa636-9ef4-4263-9507-53c75991c0a6
DTSTAMP:20260421T121059Z
CATEGORIES:Kinderturnen
CLASS:PUBLIC
DESCRIPTION;ALTREP="CID:<FFFF__=0ABBE548DFE235B58f9e8a93d@coffeebean.com>":
 Teilnahme  jeweils nur mit Anmeldung über unsere Turn-App. Rückfragen stet
 s an: 'gaedker@tsvellhofen.de'
DTSTART:20230424T130000Z
DTEND:20230424T130000Z
GEO:00;0
LOCATION:
ORGANIZER;CN=:gaedker@tsvellhofen.de
SEQUENCE:1
SUMMARY:Kinderturnen für Kinder der 1. und 2. Klasse
TRANSP:OPAQUE
URL:https://www.turnen-ellhofen.de/index.php/component/icagenda/29-kindertu
 rnen-fuer-kinder-der-1-und-2-klasse
END:VEVENT
END:VCALENDAR
